BEGIN:VCALENDAR
VERSION:2.0
PRODID:-//Astor Theatre &amp; Arts Centre - ECPv6.15.0.1//NONSGML v1.0//EN
CALSCALE:GREGORIAN
METHOD:PUBLISH
X-WR-CALNAME:Astor Theatre &amp; Arts Centre
X-ORIGINAL-URL:https://astortheatre.ca
X-WR-CALDESC:Events for Astor Theatre &amp; Arts Centre
REFRESH-INTERVAL;VALUE=DURATION:PT1H
X-Robots-Tag:noindex
X-PUBLISHED-TTL:PT1H
BEGIN:VTIMEZONE
TZID:America/Halifax
BEGIN:DAYLIGHT
TZOFFSETFROM:-0400
TZOFFSETTO:-0300
TZNAME:ADT
DTSTART:20250309T060000
END:DAYLIGHT
BEGIN:STANDARD
TZOFFSETFROM:-0300
TZOFFSETTO:-0400
TZNAME:AST
DTSTART:20251102T050000
END:STANDARD
BEGIN:DAYLIGHT
TZOFFSETFROM:-0400
TZOFFSETTO:-0300
TZNAME:ADT
DTSTART:20260308T060000
END:DAYLIGHT
BEGIN:STANDARD
TZOFFSETFROM:-0300
TZOFFSETTO:-0400
TZNAME:AST
DTSTART:20261101T050000
END:STANDARD
END:VTIMEZONE
BEGIN:VEVENT
DTSTART;VALUE=DATE:20251218
DTEND;VALUE=DATE:20260219
DTSTAMP:20260419T125101
CREATED:20251218T184955Z
LAST-MODIFIED:20260205T154206Z
UID:10003823-1766016000-1771459199@astortheatre.ca
SUMMARY:Stage and Beyond Pass | Liverpool International Theatre Festival
DESCRIPTION:[vc_row full_width=”stretch_row” css=”.vc_custom_1756314945825{margin-top: -50px !important;margin-bottom: 60px !important;padding-bottom: 30px !important;background-color: #ffffff !important;border-radius: 4px !important;}”][vc_column width=”1/3″][vc_empty_space height=”20px”][vc_single_image source=”featured_image” img_size=”full”][vc_column_text css=””] \n\nWednesdays April 29 - June 24\, 2026\n6 p.m. \nFREE\n\n\n[/vc_column_text][vc_column_text css=””][/vc_column_text][vc_column_text css=””]Category: Cultural & Community Events[/vc_column_text][/vc_column][vc_column width=”2/3″][vc_empty_space height=”30px”][vc_custom_heading source=”post_title” font_container=”tag:div|font_size:2.5em|text_align:left|color:%23000000″ google_fonts=”font_family:Alef%3Aregular%2C700|font_style:700%20bold%20regular%3A700%3Anormal” css=”.vc_custom_1691025842360{margin-top: -20px !important;margin-bottom: 10px !important;}” el_class=”mainspecialtext”][vc_row_inner content_placement=”top”][vc_column_inner width=”3/4″][vc_column_text css=”.vc_custom_1756315486716{margin-top: -20px !important;margin-bottom: 0px !important;}”] \nCultural & Community Events\n[/vc_column_text][vc_column_text css=””] \n\nWednesdays April 29 - June 24\, 2026\n6 p.m. \nFREE\n\n\n[/vc_column_text][/vc_column_inner][vc_column_inner width=”1/4″][vc_column_text css=””][/vc_column_text][/vc_column_inner][/vc_row_inner][vc_column_text css=”.vc_custom_1766084221124{margin-top: -20px !important;}” el_class=”littlelarger”] \n\nAstor Academy Drama Club running on Wednesdays from April 29 to June 24\, 2026 – 6 p.m. tp 8 p.m. \n\nAfter our very successful performance of “And Then There Were None Left Unbroken”\, we are back again to perform another original stage play during the Privateer Days\, Liverpool\, Nova Scotia Weekend.\n\n\nThe program is designed for students aged 8 to 17 who are interested in learning about theatre. We will meet each week to learn about various aspects of theatre: improvisation (thinking on your feet)\, movement/mime (physical storytelling)\, vocal projection\, and character exploration.\n\n\nThe Spotlight Guild focuses on building confidence\, creativity\, and teamwork through theatre-based activities.\n\n\nThis is a FREE program geared for 8-17 year olds that will meet weekly on Wednesday nights starting on April 29th.\n\n\nRegistration is limited. Contact our Box Office today for more details\n\n\n 902-354-5250  boxoffice@astortheatre.ns.ca\n\n\n\n\n[/vc_column_text][vc_empty_space][/vc_column][/vc_row]
URL:https://astortheatre.ca/event/4229/
LOCATION:Astor Theatre\, 219 Main Street\, Liverpool\, Nova Scotia\, B0T 1K0\, Canada
CATEGORIES:Cultural & Community Events
ATTACH;FMTTYPE=image/jpeg:https://astortheatre.ca/wp-content/uploads/2025/12/LITF-Stage-Beyond-Subscription-TP-11-x-17-in-1.jpg
END:VEVENT
BEGIN:VEVENT
DTSTART;TZID=America/Halifax:20260205T110000
DTEND;TZID=America/Halifax:20260205T160000
DTSTAMP:20260419T125101
CREATED:20260203T033930Z
LAST-MODIFIED:20260203T133527Z
UID:10005726-1770289200-1770307200@astortheatre.ca
SUMMARY:Marsha Ringer Knits & Pieces Art Show
DESCRIPTION:[vc_row full_width=”stretch_row” css=”.vc_custom_1756314945825{margin-top: -50px !important;margin-bottom: 60px !important;padding-bottom: 30px !important;background-color: #ffffff !important;border-radius: 4px !important;}”][vc_column width=”1/3″][vc_empty_space height=”20px”][vc_single_image source=”featured_image” img_size=”full”][vc_column_text css=””] \n\nWednesdays April 29 - June 24\, 2026\n6 p.m. \nFREE\n\n\n[/vc_column_text][vc_column_text css=””][/vc_column_text][vc_column_text css=””]Category: Cultural & Community Events[/vc_column_text][/vc_column][vc_column width=”2/3″][vc_empty_space height=”30px”][vc_custom_heading source=”post_title” font_container=”tag:div|font_size:2.5em|text_align:left|color:%23000000″ google_fonts=”font_family:Alef%3Aregular%2C700|font_style:700%20bold%20regular%3A700%3Anormal” css=”.vc_custom_1760810317427{margin-top: -15px !important;margin-bottom: 10px !important;}” el_class=”mainspecialtext”][vc_row_inner content_placement=”top”][vc_column_inner width=”3/4″ css=”.vc_custom_1760810324582{margin-left: -15px !important;}”][vc_column_text css=”.vc_custom_1756315486716{margin-top: -20px !important;margin-bottom: 0px !important;}”] \nCultural & Community Events\n[/vc_column_text][vc_empty_space][/vc_column_inner][vc_column_inner width=”1/4″][vc_column_text css=””][/vc_column_text][/vc_column_inner][/vc_row_inner][vc_column_text css=”.vc_custom_1763859402382{margin-top: -20px !important;margin-bottom: 0px !important;}”]Astor Academy Drama Club running on Wednesdays from April 29 to June 24\, 2026 – 6 p.m. tp 8 p.m. \n\nAfter our very successful performance of “And Then There Were None Left Unbroken”\, we are back again to perform another original stage play during the Privateer Days\, Liverpool\, Nova Scotia Weekend.\n\n\nThe program is designed for students aged 8 to 17 who are interested in learning about theatre. We will meet each week to learn about various aspects of theatre: improvisation (thinking on your feet)\, movement/mime (physical storytelling)\, vocal projection\, and character exploration.\n\n\nThe Spotlight Guild focuses on building confidence\, creativity\, and teamwork through theatre-based activities.\n\n\nThis is a FREE program geared for 8-17 year olds that will meet weekly on Wednesday nights starting on April 29th.\n\n\nRegistration is limited. Contact our Box Office today for more details\n\n\n 902-354-5250  boxoffice@astortheatre.ns.ca\n\n  \n[/vc_column_text][vc_empty_space][/vc_column][/vc_row]
URL:https://astortheatre.ca/event/marsha-ringer-knits-pieces-art-show/2026-02-05/
LOCATION:Astor Theatre\, 219 Main Street\, Liverpool\, Nova Scotia\, B0T 1K0\, Canada
CATEGORIES:Art,Cultural & Community Events
ATTACH;FMTTYPE=image/png:https://astortheatre.ca/wp-content/uploads/2026/02/Marsha-Ringer-website-poster.png
END:VEVENT
BEGIN:VEVENT
DTSTART;TZID=America/Halifax:20260213T183000
DTEND;TZID=America/Halifax:20260213T213000
DTSTAMP:20260419T125101
CREATED:20260115T023053Z
LAST-MODIFIED:20260203T034719Z
UID:10005708-1771007400-1771018200@astortheatre.ca
SUMMARY:February Big Stage Open Mic Night
DESCRIPTION:[vc_row full_width=”stretch_row” css=”.vc_custom_1756314945825{margin-top: -50px !important;margin-bottom: 60px !important;padding-bottom: 30px !important;background-color: #ffffff !important;border-radius: 4px !important;}”][vc_column width=”1/3″][vc_empty_space height=”20px”][vc_single_image source=”featured_image” img_size=”full”][vc_column_text css=””] \n\nWednesdays April 29 - June 24\, 2026\n6 p.m. \nFREE\n\n\n[/vc_column_text][vc_column_text css=””][/vc_column_text][vc_column_text css=””]Category: Cultural & Community Events[/vc_column_text][/vc_column][vc_column width=”2/3″][vc_empty_space height=”30px”][vc_custom_heading source=”post_title” font_container=”tag:div|font_size:2.5em|text_align:left|color:%23000000″ google_fonts=”font_family:Alef%3Aregular%2C700|font_style:700%20bold%20regular%3A700%3Anormal” css=”.vc_custom_1760810317427{margin-top: -15px !important;margin-bottom: 10px !important;}” el_class=”mainspecialtext”][vc_row_inner content_placement=”top”][vc_column_inner width=”3/4″ css=”.vc_custom_1760810324582{margin-left: -15px !important;}”][vc_column_text css=”.vc_custom_1756315486716{margin-top: -20px !important;margin-bottom: 0px !important;}”] \nCultural & Community Events\n[/vc_column_text][vc_empty_space][/vc_column_inner][vc_column_inner width=”1/4″][vc_column_text css=””][/vc_column_text][/vc_column_inner][/vc_row_inner][vc_column_text css=”.vc_custom_1763859402382{margin-top: -20px !important;margin-bottom: 0px !important;}”]Astor Academy Drama Club running on Wednesdays from April 29 to June 24\, 2026 – 6 p.m. tp 8 p.m. \n\nAfter our very successful performance of “And Then There Were None Left Unbroken”\, we are back again to perform another original stage play during the Privateer Days\, Liverpool\, Nova Scotia Weekend.\n\n\nThe program is designed for students aged 8 to 17 who are interested in learning about theatre. We will meet each week to learn about various aspects of theatre: improvisation (thinking on your feet)\, movement/mime (physical storytelling)\, vocal projection\, and character exploration.\n\n\nThe Spotlight Guild focuses on building confidence\, creativity\, and teamwork through theatre-based activities.\n\n\nThis is a FREE program geared for 8-17 year olds that will meet weekly on Wednesday nights starting on April 29th.\n\n\nRegistration is limited. Contact our Box Office today for more details\n\n\n 902-354-5250  boxoffice@astortheatre.ns.ca\n\n  \n[/vc_column_text][vc_empty_space][/vc_column][/vc_row]
URL:https://astortheatre.ca/event/big-stage-open-mic-night/
LOCATION:Astor Theatre\, 219 Main Street\, Liverpool\, Nova Scotia\, B0T 1K0\, Canada
CATEGORIES:Cultural & Community Events
ATTACH;FMTTYPE=image/jpeg:https://astortheatre.ca/wp-content/uploads/2026/01/Big-Stage-Open-Mic-feb-13-11-x-17-in.jpg
END:VEVENT
END:VCALENDAR