BEGIN:VCALENDAR
VERSION:2.0
PRODID:-//Astor Theatre &amp; Arts Centre - ECPv6.15.0.1//NONSGML v1.0//EN
CALSCALE:GREGORIAN
METHOD:PUBLISH
X-ORIGINAL-URL:https://astortheatre.ca
X-WR-CALDESC:Events for Astor Theatre &amp; Arts Centre
REFRESH-INTERVAL;VALUE=DURATION:PT1H
X-Robots-Tag:noindex
X-PUBLISHED-TTL:PT1H
BEGIN:VTIMEZONE
TZID:America/Halifax
BEGIN:DAYLIGHT
TZOFFSETFROM:-0400
TZOFFSETTO:-0300
TZNAME:ADT
DTSTART:20260308T060000
END:DAYLIGHT
BEGIN:STANDARD
TZOFFSETFROM:-0300
TZOFFSETTO:-0400
TZNAME:AST
DTSTART:20261101T050000
END:STANDARD
END:VTIMEZONE
BEGIN:VEVENT
DTSTART;TZID=America/Halifax:20260307T190000
DTEND;TZID=America/Halifax:20260307T210000
DTSTAMP:20260419T113355
CREATED:20260228T130919Z
LAST-MODIFIED:20260228T131003Z
UID:10006173-1772910000-1772917200@astortheatre.ca
SUMMARY:DEVI School's Annual Performance & Fundraiser "Beauty and the Bog"
DESCRIPTION:[vc_row full_width=”stretch_row” css=”.vc_custom_1756314945825{margin-top: -50px !important;margin-bottom: 60px !important;padding-bottom: 30px !important;background-color: #ffffff !important;border-radius: 4px !important;}”][vc_column width=”1/3″][vc_empty_space height=”20px”][vc_single_image source=”featured_image” img_size=”full”][vc_column_text css=””] \n\nWednesdays April 29 - June 24\, 2026\n6 p.m. \nFREE\n\n\n[/vc_column_text][vc_column_text css=””][/vc_column_text][vc_column_text css=””]Category: Cultural & Community Events[/vc_column_text][/vc_column][vc_column width=”2/3″][vc_empty_space height=”30px”][vc_custom_heading source=”post_title” font_container=”tag:div|font_size:2.5em|text_align:left|color:%23000000″ google_fonts=”font_family:Alef%3Aregular%2C700|font_style:700%20bold%20regular%3A700%3Anormal” css=”.vc_custom_1760810317427{margin-top: -15px !important;margin-bottom: 10px !important;}” el_class=”mainspecialtext”][vc_row_inner content_placement=”top”][vc_column_inner width=”3/4″ css=”.vc_custom_1760810324582{margin-left: -15px !important;}”][vc_column_text css=”.vc_custom_1756315486716{margin-top: -20px !important;margin-bottom: 0px !important;}”] \nCultural & Community Events\n[/vc_column_text][vc_empty_space][/vc_column_inner][vc_column_inner width=”1/4″][vc_column_text css=””][/vc_column_text][/vc_column_inner][/vc_row_inner][vc_column_text css=”.vc_custom_1763859402382{margin-top: -20px !important;margin-bottom: 0px !important;}”]Astor Academy Drama Club running on Wednesdays from April 29 to June 24\, 2026 – 6 p.m. tp 8 p.m. \n\nAfter our very successful performance of “And Then There Were None Left Unbroken”\, we are back again to perform another original stage play during the Privateer Days\, Liverpool\, Nova Scotia Weekend.\n\n\nThe program is designed for students aged 8 to 17 who are interested in learning about theatre. We will meet each week to learn about various aspects of theatre: improvisation (thinking on your feet)\, movement/mime (physical storytelling)\, vocal projection\, and character exploration.\n\n\nThe Spotlight Guild focuses on building confidence\, creativity\, and teamwork through theatre-based activities.\n\n\nThis is a FREE program geared for 8-17 year olds that will meet weekly on Wednesday nights starting on April 29th.\n\n\nRegistration is limited. Contact our Box Office today for more details\n\n\n 902-354-5250  boxoffice@astortheatre.ns.ca\n\n  \n[/vc_column_text][vc_empty_space][/vc_column][/vc_row]
URL:https://astortheatre.ca/event/devi-schools-annual-performance-and-fundraiser-beauty-and-the-bog/
LOCATION:Astor Theatre\, 219 Main Street\, Liverpool\, Nova Scotia\, B0T 1K0\, Canada
CATEGORIES:Cultural & Community Events
ATTACH;FMTTYPE=image/jpeg:https://astortheatre.ca/wp-content/uploads/2026/02/OG-poster-Devi-School-JPG.jpg
END:VEVENT
BEGIN:VEVENT
DTSTART;TZID=America/Halifax:20260316T090000
DTEND;TZID=America/Halifax:20260320T160000
DTSTAMP:20260419T113355
CREATED:20260203T133143Z
LAST-MODIFIED:20260205T154313Z
UID:10006120-1773651600-1774022400@astortheatre.ca
SUMMARY:March Break Camp "The True "ish" Story of the 3 Little Pigs?
DESCRIPTION:[vc_row full_width=”stretch_row” css=”.vc_custom_1756314945825{margin-top: -50px !important;margin-bottom: 60px !important;padding-bottom: 30px !important;background-color: #ffffff !important;border-radius: 4px !important;}”][vc_column width=”1/3″][vc_empty_space height=”20px”][vc_single_image source=”featured_image” img_size=”full”][vc_column_text css=””] \n\nWednesdays April 29 - June 24\, 2026\n6 p.m. \nFREE\n\n\n[/vc_column_text][vc_column_text css=””][/vc_column_text][vc_column_text css=””]Category: Cultural & Community Events[/vc_column_text][/vc_column][vc_column width=”2/3″][vc_empty_space height=”30px”][vc_custom_heading source=”post_title” font_container=”tag:div|font_size:2.5em|text_align:left|color:%23000000″ google_fonts=”font_family:Alef%3Aregular%2C700|font_style:700%20bold%20regular%3A700%3Anormal” css=”.vc_custom_1760810317427{margin-top: -15px !important;margin-bottom: 10px !important;}” el_class=”mainspecialtext”][vc_row_inner content_placement=”top”][vc_column_inner width=”3/4″ css=”.vc_custom_1760810324582{margin-left: -15px !important;}”][vc_column_text css=”.vc_custom_1756315486716{margin-top: -20px !important;margin-bottom: 0px !important;}”] \nCultural & Community Events\n[/vc_column_text][vc_empty_space][/vc_column_inner][vc_column_inner width=”1/4″][vc_column_text css=””][/vc_column_text][/vc_column_inner][/vc_row_inner][vc_column_text css=”.vc_custom_1763859402382{margin-top: -20px !important;margin-bottom: 0px !important;}”]Astor Academy Drama Club running on Wednesdays from April 29 to June 24\, 2026 – 6 p.m. tp 8 p.m. \n\nAfter our very successful performance of “And Then There Were None Left Unbroken”\, we are back again to perform another original stage play during the Privateer Days\, Liverpool\, Nova Scotia Weekend.\n\n\nThe program is designed for students aged 8 to 17 who are interested in learning about theatre. We will meet each week to learn about various aspects of theatre: improvisation (thinking on your feet)\, movement/mime (physical storytelling)\, vocal projection\, and character exploration.\n\n\nThe Spotlight Guild focuses on building confidence\, creativity\, and teamwork through theatre-based activities.\n\n\nThis is a FREE program geared for 8-17 year olds that will meet weekly on Wednesday nights starting on April 29th.\n\n\nRegistration is limited. Contact our Box Office today for more details\n\n\n 902-354-5250  boxoffice@astortheatre.ns.ca\n\n  \n[/vc_column_text][vc_empty_space][/vc_column][/vc_row]
URL:https://astortheatre.ca/event/march-break-camp-the-true-ish-story-of-the-3-little-pigs/
LOCATION:Astor Theatre\, 219 Main Street\, Liverpool\, Nova Scotia\, B0T 1K0\, Canada
CATEGORIES:Cultural & Community Events,Programs
ATTACH;FMTTYPE=image/jpeg:https://astortheatre.ca/wp-content/uploads/2026/02/The-True-Story-Of-The-Three-Little-Pigs.jpg
END:VEVENT
BEGIN:VEVENT
DTSTART;TZID=America/Halifax:20260318T100000
DTEND;TZID=America/Halifax:20260318T120000
DTSTAMP:20260419T113355
CREATED:20260212T001847Z
LAST-MODIFIED:20260304T202146Z
UID:10006142-1773828000-1773835200@astortheatre.ca
SUMMARY:Youth  Polymer Clay Workshop with Chris Dewolf
DESCRIPTION:[vc_row full_width=”stretch_row” css=”.vc_custom_1756314945825{margin-top: -50px !important;margin-bottom: 60px !important;padding-bottom: 30px !important;background-color: #ffffff !important;border-radius: 4px !important;}”][vc_column width=”1/3″][vc_empty_space height=”20px”][vc_single_image source=”featured_image” img_size=”full”][vc_column_text css=””] \n\nWednesdays April 29 - June 24\, 2026\n6 p.m. \nFREE\n\n\n[/vc_column_text][vc_column_text css=””][/vc_column_text][vc_column_text css=””]Category: Cultural & Community Events[/vc_column_text][/vc_column][vc_column width=”2/3″][vc_empty_space height=”30px”][vc_custom_heading source=”post_title” font_container=”tag:div|font_size:2.5em|text_align:left|color:%23000000″ google_fonts=”font_family:Alef%3Aregular%2C700|font_style:700%20bold%20regular%3A700%3Anormal” css=”.vc_custom_1760810317427{margin-top: -15px !important;margin-bottom: 10px !important;}” el_class=”mainspecialtext”][vc_row_inner content_placement=”top”][vc_column_inner width=”3/4″ css=”.vc_custom_1760810324582{margin-left: -15px !important;}”][vc_column_text css=”.vc_custom_1756315486716{margin-top: -20px !important;margin-bottom: 0px !important;}”] \nCultural & Community Events\n[/vc_column_text][vc_empty_space][/vc_column_inner][vc_column_inner width=”1/4″][vc_column_text css=””][/vc_column_text][/vc_column_inner][/vc_row_inner][vc_column_text css=”.vc_custom_1763859402382{margin-top: -20px !important;margin-bottom: 0px !important;}”]Astor Academy Drama Club running on Wednesdays from April 29 to June 24\, 2026 – 6 p.m. tp 8 p.m. \n\nAfter our very successful performance of “And Then There Were None Left Unbroken”\, we are back again to perform another original stage play during the Privateer Days\, Liverpool\, Nova Scotia Weekend.\n\n\nThe program is designed for students aged 8 to 17 who are interested in learning about theatre. We will meet each week to learn about various aspects of theatre: improvisation (thinking on your feet)\, movement/mime (physical storytelling)\, vocal projection\, and character exploration.\n\n\nThe Spotlight Guild focuses on building confidence\, creativity\, and teamwork through theatre-based activities.\n\n\nThis is a FREE program geared for 8-17 year olds that will meet weekly on Wednesday nights starting on April 29th.\n\n\nRegistration is limited. Contact our Box Office today for more details\n\n\n 902-354-5250  boxoffice@astortheatre.ns.ca\n\n  \n[/vc_column_text][vc_empty_space][/vc_column][/vc_row]
URL:https://astortheatre.ca/event/youth-polymer-clay-workshop-with-chris-dewolf/
LOCATION:Astor Theatre\, 219 Main Street\, Liverpool\, Nova Scotia\, B0T 1K0\, Canada
CATEGORIES:Art,Cultural & Community Events
ATTACH;FMTTYPE=image/jpeg:https://astortheatre.ca/wp-content/uploads/2026/02/Chris-DeWolf-Polymer-Clay-Workshop.jpg
END:VEVENT
BEGIN:VEVENT
DTSTART;TZID=America/Halifax:20260324T140000
DTEND;TZID=America/Halifax:20260324T153000
DTSTAMP:20260419T113355
CREATED:20260211T125555Z
LAST-MODIFIED:20260323T181146Z
UID:10006141-1774360800-1774366200@astortheatre.ca
SUMMARY:Community in Colour Workshop
DESCRIPTION:[vc_row full_width=”stretch_row” css=”.vc_custom_1756314945825{margin-top: -50px !important;margin-bottom: 60px !important;padding-bottom: 30px !important;background-color: #ffffff !important;border-radius: 4px !important;}”][vc_column width=”1/3″][vc_empty_space height=”20px”][vc_single_image source=”featured_image” img_size=”full”][vc_column_text css=””] \n\nWednesdays April 29 - June 24\, 2026\n6 p.m. \nFREE\n\n\n[/vc_column_text][vc_column_text css=””][/vc_column_text][vc_column_text css=””]Category: Cultural & Community Events[/vc_column_text][/vc_column][vc_column width=”2/3″][vc_empty_space height=”30px”][vc_custom_heading source=”post_title” font_container=”tag:div|font_size:2.5em|text_align:left|color:%23000000″ google_fonts=”font_family:Alef%3Aregular%2C700|font_style:700%20bold%20regular%3A700%3Anormal” css=”.vc_custom_1760810317427{margin-top: -15px !important;margin-bottom: 10px !important;}” el_class=”mainspecialtext”][vc_row_inner content_placement=”top”][vc_column_inner width=”3/4″ css=”.vc_custom_1760810324582{margin-left: -15px !important;}”][vc_column_text css=”.vc_custom_1756315486716{margin-top: -20px !important;margin-bottom: 0px !important;}”] \nCultural & Community Events\n[/vc_column_text][vc_empty_space][/vc_column_inner][vc_column_inner width=”1/4″][vc_column_text css=””][/vc_column_text][/vc_column_inner][/vc_row_inner][vc_column_text css=”.vc_custom_1763859402382{margin-top: -20px !important;margin-bottom: 0px !important;}”]Astor Academy Drama Club running on Wednesdays from April 29 to June 24\, 2026 – 6 p.m. tp 8 p.m. \n\nAfter our very successful performance of “And Then There Were None Left Unbroken”\, we are back again to perform another original stage play during the Privateer Days\, Liverpool\, Nova Scotia Weekend.\n\n\nThe program is designed for students aged 8 to 17 who are interested in learning about theatre. We will meet each week to learn about various aspects of theatre: improvisation (thinking on your feet)\, movement/mime (physical storytelling)\, vocal projection\, and character exploration.\n\n\nThe Spotlight Guild focuses on building confidence\, creativity\, and teamwork through theatre-based activities.\n\n\nThis is a FREE program geared for 8-17 year olds that will meet weekly on Wednesday nights starting on April 29th.\n\n\nRegistration is limited. Contact our Box Office today for more details\n\n\n 902-354-5250  boxoffice@astortheatre.ns.ca\n\n  \n[/vc_column_text][vc_empty_space][/vc_column][/vc_row]
URL:https://astortheatre.ca/event/community-in-colour-workshop/
LOCATION:Astor Theatre\, 219 Main Street\, Liverpool\, Nova Scotia\, B0T 1K0\, Canada
CATEGORIES:Art,Cultural & Community Events,Programs
ATTACH;FMTTYPE=image/jpeg:https://astortheatre.ca/wp-content/uploads/2026/02/March-24th-Workshop-1.jpg
END:VEVENT
BEGIN:VEVENT
DTSTART;TZID=America/Halifax:20260328T183000
DTEND;TZID=America/Halifax:20260328T213000
DTSTAMP:20260419T113355
CREATED:20260126T164923Z
LAST-MODIFIED:20260203T034904Z
UID:10005721-1774722600-1774733400@astortheatre.ca
SUMMARY:March 2026 Big Stage Open Mic Night
DESCRIPTION:[vc_row full_width=”stretch_row” css=”.vc_custom_1756314945825{margin-top: -50px !important;margin-bottom: 60px !important;padding-bottom: 30px !important;background-color: #ffffff !important;border-radius: 4px !important;}”][vc_column width=”1/3″][vc_empty_space height=”20px”][vc_single_image source=”featured_image” img_size=”full”][vc_column_text css=””] \n\nWednesdays April 29 - June 24\, 2026\n6 p.m. \nFREE\n\n\n[/vc_column_text][vc_column_text css=””][/vc_column_text][vc_column_text css=””]Category: Cultural & Community Events[/vc_column_text][/vc_column][vc_column width=”2/3″][vc_empty_space height=”30px”][vc_custom_heading source=”post_title” font_container=”tag:div|font_size:2.5em|text_align:left|color:%23000000″ google_fonts=”font_family:Alef%3Aregular%2C700|font_style:700%20bold%20regular%3A700%3Anormal” css=”.vc_custom_1760810317427{margin-top: -15px !important;margin-bottom: 10px !important;}” el_class=”mainspecialtext”][vc_row_inner content_placement=”top”][vc_column_inner width=”3/4″ css=”.vc_custom_1760810324582{margin-left: -15px !important;}”][vc_column_text css=”.vc_custom_1756315486716{margin-top: -20px !important;margin-bottom: 0px !important;}”] \nCultural & Community Events\n[/vc_column_text][vc_empty_space][/vc_column_inner][vc_column_inner width=”1/4″][vc_column_text css=””][/vc_column_text][/vc_column_inner][/vc_row_inner][vc_column_text css=”.vc_custom_1763859402382{margin-top: -20px !important;margin-bottom: 0px !important;}”]Astor Academy Drama Club running on Wednesdays from April 29 to June 24\, 2026 – 6 p.m. tp 8 p.m. \n\nAfter our very successful performance of “And Then There Were None Left Unbroken”\, we are back again to perform another original stage play during the Privateer Days\, Liverpool\, Nova Scotia Weekend.\n\n\nThe program is designed for students aged 8 to 17 who are interested in learning about theatre. We will meet each week to learn about various aspects of theatre: improvisation (thinking on your feet)\, movement/mime (physical storytelling)\, vocal projection\, and character exploration.\n\n\nThe Spotlight Guild focuses on building confidence\, creativity\, and teamwork through theatre-based activities.\n\n\nThis is a FREE program geared for 8-17 year olds that will meet weekly on Wednesday nights starting on April 29th.\n\n\nRegistration is limited. Contact our Box Office today for more details\n\n\n 902-354-5250  boxoffice@astortheatre.ns.ca\n\n  \n[/vc_column_text][vc_empty_space][/vc_column][/vc_row]
URL:https://astortheatre.ca/event/march-2026-big-stage-open-mic-night/
LOCATION:Astor Theatre\, 219 Main Street\, Liverpool\, Nova Scotia\, B0T 1K0\, Canada
CATEGORIES:Cultural & Community Events
ATTACH;FMTTYPE=image/jpeg:https://astortheatre.ca/wp-content/uploads/2026/01/Big-Stage-Open-Mic-March-28th-11-x-17-in.jpg
END:VEVENT
END:VCALENDAR