BEGIN:VCALENDAR
VERSION:2.0
PRODID:-//Astor Theatre &amp; Arts Centre - ECPv6.15.0.1//NONSGML v1.0//EN
CALSCALE:GREGORIAN
METHOD:PUBLISH
X-WR-CALNAME:Astor Theatre &amp; Arts Centre
X-ORIGINAL-URL:https://astortheatre.ca
X-WR-CALDESC:Events for Astor Theatre &amp; Arts Centre
REFRESH-INTERVAL;VALUE=DURATION:PT1H
X-Robots-Tag:noindex
X-PUBLISHED-TTL:PT1H
BEGIN:VTIMEZONE
TZID:America/Halifax
BEGIN:DAYLIGHT
TZOFFSETFROM:-0400
TZOFFSETTO:-0300
TZNAME:ADT
DTSTART:20250309T060000
END:DAYLIGHT
BEGIN:STANDARD
TZOFFSETFROM:-0300
TZOFFSETTO:-0400
TZNAME:AST
DTSTART:20251102T050000
END:STANDARD
END:VTIMEZONE
BEGIN:VEVENT
DTSTART;TZID=America/Halifax:20251206T143000
DTEND;TZID=America/Halifax:20251206T163000
DTSTAMP:20260419T154240
CREATED:20251126T001442Z
LAST-MODIFIED:20251206T015301Z
UID:10000096-1765031400-1765038600@astortheatre.ca
SUMMARY:The Grinch (2018)
DESCRIPTION:[vc_row full_width=”stretch_row” css=”.vc_custom_1756314945825{margin-top: -50px !important;margin-bottom: 60px !important;padding-bottom: 30px !important;background-color: #ffffff !important;border-radius: 4px !important;}”][vc_column width=”1/3″][vc_empty_space height=”20px”][vc_single_image source=”featured_image” img_size=”full”][vc_column_text css=””] \n\nApril 7\, 2026\n6 p.m. \n$25\n\n\n[/vc_column_text][vc_column_text css=””][/vc_column_text][vc_column_text css=””]Category: Movies[/vc_column_text][/vc_column][vc_column width=”2/3″][vc_empty_space height=”30px”][vc_custom_heading source=”post_title” font_container=”tag:div|font_size:2.5em|text_align:left|color:%23000000″ google_fonts=”font_family:Alef%3Aregular%2C700|font_style:700%20bold%20regular%3A700%3Anormal” css=”.vc_custom_1760810317427{margin-top: -15px !important;margin-bottom: 10px !important;}” el_class=”mainspecialtext”][vc_row_inner content_placement=”top”][vc_column_inner width=”3/4″ css=”.vc_custom_1760810324582{margin-left: -15px !important;}”][vc_column_text css=”.vc_custom_1756315486716{margin-top: -20px !important;margin-bottom: 0px !important;}”] \nMovies\n[/vc_column_text][vc_empty_space][/vc_column_inner][vc_column_inner width=”1/4″][vc_column_text css=””][/vc_column_text][/vc_column_inner][/vc_row_inner][vc_column_text css=”.vc_custom_1763859402382{margin-top: -20px !important;margin-bottom: 0px !important;}”]Showtimes: Tuesday\, April 7\, 2026\, 6 p.m. \nThe Metropolitan Opera: The Magic Flute – Abridged Version \n\n\n\nComposer: Wolfgang Amadeus Mozart \n\n\nLibrettist :Emanuel Schikaneder \n\n\n\nSung In :English \n\n\n\n1 hrs 30 mins \n\nMozart’s enchanting fable takes the stage in the Met’s abridged\, English-language production by Julie Taymor—the Tony Award–winning director of Broadway’s The Lion King. Running under 90 minutes and dazzling audiences with vibrant sets\, colorful costumes\, and eye-popping puppetry\, it’s the perfect show for the holidays and a delightful introduction to opera for audiences of all ages.\n\n\n\n\n\n\n\n\n\n\nA mythical land between the sun and the moon. Three ladies in the service of the Queen of the Night save Prince Tamino from a serpent. When they leave to tell the queen\, the birdcatcher Papageno appears. He boasts to Tamino that it was he who killed the creature. The ladies return to give Tamino a portrait of the queen’s daughter\, Pamina\, who they say has been enslaved by the evil Sarastro. Tamino immediately falls in love with the girl’s picture. The queen\, appearing in a burst of thunder\, tells Tamino about the loss of her daughter and commands him to rescue her. The ladies give a magic flute to Tamino and silver bells to Papageno to ensure their safety on the journey and appoint three spirits to guide them. \nSarastro’s slave Monostatos pursues Pamina but is frightened away by Papageno. The birdcatcher tells Pamina that Tamino loves her and is on his way to save her. Led by the three spirits to the temple of Sarastro\, Tamino learns from a high priest that it is the Queen\, not Sarastro\, who is evil. Hearing that Pamina is safe\, Tamino charms the wild animals with his flute\, then rushes off to follow the sound of Papageno’s pipes. Monostatos and his men chase Papageno and Pamina but are left helpless when Papageno plays his magic bells. Sarastro enters in great ceremony. He punishes Monostatos and promises Pamina that he will eventually set her free. Pamina catches a glimpse of Tamino\, who is led into the temple with Papageno. \nSarastro tells the priests that Tamino will undergo initiation rites. Monostatos tries to kiss the sleeping Pamina but is surprised by the appearance of the Queen of the Night. The Queen gives her daughter a dagger and orders her to murder Sarastro. \nSarastro finds the desperate Pamina and consoles her\, explaining that he is not interested in vengeance. Tamino and Papageno are told by a priest that they must remain silent and are not allowed to eat\, a vow that Papageno immediately breaks when he takes a glass of water from a flirtatious old lady. When he asks her name\, the old lady vanishes. The three spirits appear to guide Tamino through the rest of his journey and to tell Papageno to be quiet. Tamino remains silent even when Pamina appears. Misunderstanding his vow for coldness\, she is heartbroken. \nThe priests inform Tamino that he has only two more trials to complete his initiation. Papageno\, who has given up on entering the brotherhood\, longs for a wife instead. He eventually settles for the old lady. When he promises to be faithful she turns into a beautiful young Papagena but immediately disappears. \nPamina and Tamino are reunited and face the ordeals of water and fire together\, protected by the magic flute. \nPapageno tries to hang himself on a tree but is saved by the three spirits\, who remind him that if he uses his magic bells he will find true happiness. When he plays the bells\, Papagena appears and the two start making family plans. The Queen of the Night\, her three ladies\, and Monostatos attack the temple but are defeated and banished. Sarastro blesses Pamina and Tamino as all join in hailing the triumph of courage\, virtue\, and wisdom. \n\nTickets are $25 at the door\, general seating.  Our concessions and limited bar will be open for purchases. \n\n\n\n\n\n\n  \n\n\n  \nhttps://youtu.be/nLgYN71ZRyE?si=lVu2Reh0P1AjM051[/vc_column_text][vc_empty_space][/vc_column][/vc_row]
URL:https://astortheatre.ca/event/the-grinch-2018/2025-12-06/2/
LOCATION:Astor Theatre\, 219 Main Street\, Liverpool\, Nova Scotia\, B0T 1K0\, Canada
CATEGORIES:Movies
ATTACH;FMTTYPE=image/jpeg:https://astortheatre.ca/wp-content/uploads/2025/11/The-Grinch-2018-poster.jpg
END:VEVENT
BEGIN:VEVENT
DTSTART;TZID=America/Halifax:20251203T190000
DTEND;TZID=America/Halifax:20251203T210000
DTSTAMP:20260419T154240
CREATED:20251122T024746Z
LAST-MODIFIED:20251123T010809Z
UID:10000086-1764788400-1764795600@astortheatre.ca
SUMMARY:Predator: Badlands
DESCRIPTION:[vc_row full_width=”stretch_row” css=”.vc_custom_1756314945825{margin-top: -50px !important;margin-bottom: 60px !important;padding-bottom: 30px !important;background-color: #ffffff !important;border-radius: 4px !important;}”][vc_column width=”1/3″][vc_empty_space height=”20px”][vc_single_image source=”featured_image” img_size=”full”][vc_column_text css=””] \n\nApril 7\, 2026\n6 p.m. \n$25\n\n\n[/vc_column_text][vc_column_text css=””][/vc_column_text][vc_column_text css=””]Category: Movies[/vc_column_text][/vc_column][vc_column width=”2/3″][vc_empty_space height=”30px”][vc_custom_heading source=”post_title” font_container=”tag:div|font_size:2.5em|text_align:left|color:%23000000″ google_fonts=”font_family:Alef%3Aregular%2C700|font_style:700%20bold%20regular%3A700%3Anormal” css=”.vc_custom_1691025842360{margin-top: -20px !important;margin-bottom: 10px !important;}” el_class=”mainspecialtext”][vc_row_inner content_placement=”top”][vc_column_inner width=”3/4″][vc_column_text css=”.vc_custom_1756315486716{margin-top: -20px !important;margin-bottom: 0px !important;}”] \nMovies\n[/vc_column_text][vc_empty_space][/vc_column_inner][vc_column_inner width=”1/4″][vc_column_text css=””][/vc_column_text][/vc_column_inner][/vc_row_inner][vc_column_text css=”.vc_custom_1763859402382{margin-top: -20px !important;margin-bottom: 0px !important;}”]Showtimes: Tuesday\, April 7\, 2026\, 6 p.m. \nThe Metropolitan Opera: The Magic Flute – Abridged Version \n\n\n\nComposer: Wolfgang Amadeus Mozart \n\n\nLibrettist :Emanuel Schikaneder \n\n\n\nSung In :English \n\n\n\n1 hrs 30 mins \n\nMozart’s enchanting fable takes the stage in the Met’s abridged\, English-language production by Julie Taymor—the Tony Award–winning director of Broadway’s The Lion King. Running under 90 minutes and dazzling audiences with vibrant sets\, colorful costumes\, and eye-popping puppetry\, it’s the perfect show for the holidays and a delightful introduction to opera for audiences of all ages.\n\n\n\n\n\n\n\n\n\n\nA mythical land between the sun and the moon. Three ladies in the service of the Queen of the Night save Prince Tamino from a serpent. When they leave to tell the queen\, the birdcatcher Papageno appears. He boasts to Tamino that it was he who killed the creature. The ladies return to give Tamino a portrait of the queen’s daughter\, Pamina\, who they say has been enslaved by the evil Sarastro. Tamino immediately falls in love with the girl’s picture. The queen\, appearing in a burst of thunder\, tells Tamino about the loss of her daughter and commands him to rescue her. The ladies give a magic flute to Tamino and silver bells to Papageno to ensure their safety on the journey and appoint three spirits to guide them. \nSarastro’s slave Monostatos pursues Pamina but is frightened away by Papageno. The birdcatcher tells Pamina that Tamino loves her and is on his way to save her. Led by the three spirits to the temple of Sarastro\, Tamino learns from a high priest that it is the Queen\, not Sarastro\, who is evil. Hearing that Pamina is safe\, Tamino charms the wild animals with his flute\, then rushes off to follow the sound of Papageno’s pipes. Monostatos and his men chase Papageno and Pamina but are left helpless when Papageno plays his magic bells. Sarastro enters in great ceremony. He punishes Monostatos and promises Pamina that he will eventually set her free. Pamina catches a glimpse of Tamino\, who is led into the temple with Papageno. \nSarastro tells the priests that Tamino will undergo initiation rites. Monostatos tries to kiss the sleeping Pamina but is surprised by the appearance of the Queen of the Night. The Queen gives her daughter a dagger and orders her to murder Sarastro. \nSarastro finds the desperate Pamina and consoles her\, explaining that he is not interested in vengeance. Tamino and Papageno are told by a priest that they must remain silent and are not allowed to eat\, a vow that Papageno immediately breaks when he takes a glass of water from a flirtatious old lady. When he asks her name\, the old lady vanishes. The three spirits appear to guide Tamino through the rest of his journey and to tell Papageno to be quiet. Tamino remains silent even when Pamina appears. Misunderstanding his vow for coldness\, she is heartbroken. \nThe priests inform Tamino that he has only two more trials to complete his initiation. Papageno\, who has given up on entering the brotherhood\, longs for a wife instead. He eventually settles for the old lady. When he promises to be faithful she turns into a beautiful young Papagena but immediately disappears. \nPamina and Tamino are reunited and face the ordeals of water and fire together\, protected by the magic flute. \nPapageno tries to hang himself on a tree but is saved by the three spirits\, who remind him that if he uses his magic bells he will find true happiness. When he plays the bells\, Papagena appears and the two start making family plans. The Queen of the Night\, her three ladies\, and Monostatos attack the temple but are defeated and banished. Sarastro blesses Pamina and Tamino as all join in hailing the triumph of courage\, virtue\, and wisdom. \n\nTickets are $25 at the door\, general seating.  Our concessions and limited bar will be open for purchases. \n\n\n\n\n\n\n  \n\n\n  \nhttps://youtu.be/nLgYN71ZRyE?si=lVu2Reh0P1AjM051[/vc_column_text][vc_empty_space][/vc_column][/vc_row]
URL:https://astortheatre.ca/event/predator-badlands/2025-12-03/2/
LOCATION:Astor Theatre\, 219 Main Street\, Liverpool\, Nova Scotia\, B0T 1K0\, Canada
CATEGORIES:Movies
ATTACH;FMTTYPE=image/png:https://astortheatre.ca/wp-content/uploads/2025/11/Predator-Badlands-original-Poster.png
ORGANIZER;CN="Box Office":MAILTO:boxoffice@astortheatre.ns.ca
END:VEVENT
BEGIN:VEVENT
DTSTART;TZID=America/Halifax:20251127T190000
DTEND;TZID=America/Halifax:20251127T220000
DTSTAMP:20260419T154240
CREATED:20250830T162658Z
LAST-MODIFIED:20251124T150841Z
UID:10000069-1764270000-1764280800@astortheatre.ca
SUMMARY:Springsteen: Deliver Me from Nowhere
DESCRIPTION:[vc_row full_width=”stretch_row” css=”.vc_custom_1756314945825{margin-top: -50px !important;margin-bottom: 60px !important;padding-bottom: 30px !important;background-color: #ffffff !important;border-radius: 4px !important;}”][vc_column width=”1/3″][vc_empty_space height=”20px”][vc_single_image source=”featured_image” img_size=”full”][vc_column_text css=””] \n\nApril 7\, 2026\n6 p.m. \n$25\n\n\n[/vc_column_text][vc_column_text css=””][/vc_column_text][vc_column_text css=””]Category: Movies[/vc_column_text][/vc_column][vc_column width=”2/3″][vc_empty_space height=”30px”][vc_custom_heading source=”post_title” font_container=”tag:div|font_size:2.5em|text_align:left|color:%23000000″ google_fonts=”font_family:Alef%3Aregular%2C700|font_style:700%20bold%20regular%3A700%3Anormal” css=”.vc_custom_1760810317427{margin-top: -15px !important;margin-bottom: 10px !important;}” el_class=”mainspecialtext”][vc_row_inner content_placement=”top”][vc_column_inner width=”3/4″ css=”.vc_custom_1760810324582{margin-left: -15px !important;}”][vc_column_text css=”.vc_custom_1756315486716{margin-top: -20px !important;margin-bottom: 0px !important;}”] \nMovies\n[/vc_column_text][vc_empty_space][/vc_column_inner][vc_column_inner width=”1/4″][vc_column_text css=””][/vc_column_text][/vc_column_inner][/vc_row_inner][vc_column_text css=”.vc_custom_1763859402382{margin-top: -20px !important;margin-bottom: 0px !important;}”]Showtimes: Tuesday\, April 7\, 2026\, 6 p.m. \nThe Metropolitan Opera: The Magic Flute – Abridged Version \n\n\n\nComposer: Wolfgang Amadeus Mozart \n\n\nLibrettist :Emanuel Schikaneder \n\n\n\nSung In :English \n\n\n\n1 hrs 30 mins \n\nMozart’s enchanting fable takes the stage in the Met’s abridged\, English-language production by Julie Taymor—the Tony Award–winning director of Broadway’s The Lion King. Running under 90 minutes and dazzling audiences with vibrant sets\, colorful costumes\, and eye-popping puppetry\, it’s the perfect show for the holidays and a delightful introduction to opera for audiences of all ages.\n\n\n\n\n\n\n\n\n\n\nA mythical land between the sun and the moon. Three ladies in the service of the Queen of the Night save Prince Tamino from a serpent. When they leave to tell the queen\, the birdcatcher Papageno appears. He boasts to Tamino that it was he who killed the creature. The ladies return to give Tamino a portrait of the queen’s daughter\, Pamina\, who they say has been enslaved by the evil Sarastro. Tamino immediately falls in love with the girl’s picture. The queen\, appearing in a burst of thunder\, tells Tamino about the loss of her daughter and commands him to rescue her. The ladies give a magic flute to Tamino and silver bells to Papageno to ensure their safety on the journey and appoint three spirits to guide them. \nSarastro’s slave Monostatos pursues Pamina but is frightened away by Papageno. The birdcatcher tells Pamina that Tamino loves her and is on his way to save her. Led by the three spirits to the temple of Sarastro\, Tamino learns from a high priest that it is the Queen\, not Sarastro\, who is evil. Hearing that Pamina is safe\, Tamino charms the wild animals with his flute\, then rushes off to follow the sound of Papageno’s pipes. Monostatos and his men chase Papageno and Pamina but are left helpless when Papageno plays his magic bells. Sarastro enters in great ceremony. He punishes Monostatos and promises Pamina that he will eventually set her free. Pamina catches a glimpse of Tamino\, who is led into the temple with Papageno. \nSarastro tells the priests that Tamino will undergo initiation rites. Monostatos tries to kiss the sleeping Pamina but is surprised by the appearance of the Queen of the Night. The Queen gives her daughter a dagger and orders her to murder Sarastro. \nSarastro finds the desperate Pamina and consoles her\, explaining that he is not interested in vengeance. Tamino and Papageno are told by a priest that they must remain silent and are not allowed to eat\, a vow that Papageno immediately breaks when he takes a glass of water from a flirtatious old lady. When he asks her name\, the old lady vanishes. The three spirits appear to guide Tamino through the rest of his journey and to tell Papageno to be quiet. Tamino remains silent even when Pamina appears. Misunderstanding his vow for coldness\, she is heartbroken. \nThe priests inform Tamino that he has only two more trials to complete his initiation. Papageno\, who has given up on entering the brotherhood\, longs for a wife instead. He eventually settles for the old lady. When he promises to be faithful she turns into a beautiful young Papagena but immediately disappears. \nPamina and Tamino are reunited and face the ordeals of water and fire together\, protected by the magic flute. \nPapageno tries to hang himself on a tree but is saved by the three spirits\, who remind him that if he uses his magic bells he will find true happiness. When he plays the bells\, Papagena appears and the two start making family plans. The Queen of the Night\, her three ladies\, and Monostatos attack the temple but are defeated and banished. Sarastro blesses Pamina and Tamino as all join in hailing the triumph of courage\, virtue\, and wisdom. \n\nTickets are $25 at the door\, general seating.  Our concessions and limited bar will be open for purchases. \n\n\n\n\n\n\n  \n\n\n  \nhttps://youtu.be/nLgYN71ZRyE?si=lVu2Reh0P1AjM051[/vc_column_text][vc_empty_space][/vc_column][/vc_row]
URL:https://astortheatre.ca/event/springsteen-deliver-me-from-nowher/2025-11-27/2/
LOCATION:Astor Theatre\, 219 Main Street\, Liverpool\, Nova Scotia\, B0T 1K0\, Canada
CATEGORIES:Movies
ATTACH;FMTTYPE=image/jpeg:https://astortheatre.ca/wp-content/uploads/2025/08/springsteen.jpg
END:VEVENT
BEGIN:VEVENT
DTSTART;TZID=America/Halifax:20251121T190000
DTEND;TZID=America/Halifax:20251121T210000
DTSTAMP:20260419T154240
CREATED:20251104T193010Z
LAST-MODIFIED:20251123T011207Z
UID:10000046-1763751600-1763758800@astortheatre.ca
SUMMARY:Tron: Ares
DESCRIPTION:[vc_row full_width=”stretch_row” css=”.vc_custom_1756314945825{margin-top: -50px !important;margin-bottom: 60px !important;padding-bottom: 30px !important;background-color: #ffffff !important;border-radius: 4px !important;}”][vc_column width=”1/3″][vc_empty_space height=”20px”][vc_single_image source=”featured_image” img_size=”full”][vc_column_text css=””] \n\nApril 7\, 2026\n6 p.m. \n$25\n\n\n[/vc_column_text][vc_column_text css=””][/vc_column_text][vc_column_text css=””]Category: Movies[/vc_column_text][/vc_column][vc_column width=”2/3″][vc_empty_space height=”30px”][vc_custom_heading source=”post_title” font_container=”tag:div|font_size:2.5em|text_align:left|color:%23000000″ google_fonts=”font_family:Alef%3Aregular%2C700|font_style:700%20bold%20regular%3A700%3Anormal” css=”.vc_custom_1691025842360{margin-top: -20px !important;margin-bottom: 10px !important;}” el_class=”mainspecialtext”][vc_row_inner content_placement=”top”][vc_column_inner width=”3/4″][vc_column_text css=”.vc_custom_1756315486716{margin-top: -20px !important;margin-bottom: 0px !important;}”] \nMovies\n[/vc_column_text][vc_empty_space][/vc_column_inner][vc_column_inner width=”1/4″][vc_column_text css=””][/vc_column_text][/vc_column_inner][/vc_row_inner][vc_column_text css=”.vc_custom_1763859402382{margin-top: -20px !important;margin-bottom: 0px !important;}”]Showtimes: Tuesday\, April 7\, 2026\, 6 p.m. \nThe Metropolitan Opera: The Magic Flute – Abridged Version \n\n\n\nComposer: Wolfgang Amadeus Mozart \n\n\nLibrettist :Emanuel Schikaneder \n\n\n\nSung In :English \n\n\n\n1 hrs 30 mins \n\nMozart’s enchanting fable takes the stage in the Met’s abridged\, English-language production by Julie Taymor—the Tony Award–winning director of Broadway’s The Lion King. Running under 90 minutes and dazzling audiences with vibrant sets\, colorful costumes\, and eye-popping puppetry\, it’s the perfect show for the holidays and a delightful introduction to opera for audiences of all ages.\n\n\n\n\n\n\n\n\n\n\nA mythical land between the sun and the moon. Three ladies in the service of the Queen of the Night save Prince Tamino from a serpent. When they leave to tell the queen\, the birdcatcher Papageno appears. He boasts to Tamino that it was he who killed the creature. The ladies return to give Tamino a portrait of the queen’s daughter\, Pamina\, who they say has been enslaved by the evil Sarastro. Tamino immediately falls in love with the girl’s picture. The queen\, appearing in a burst of thunder\, tells Tamino about the loss of her daughter and commands him to rescue her. The ladies give a magic flute to Tamino and silver bells to Papageno to ensure their safety on the journey and appoint three spirits to guide them. \nSarastro’s slave Monostatos pursues Pamina but is frightened away by Papageno. The birdcatcher tells Pamina that Tamino loves her and is on his way to save her. Led by the three spirits to the temple of Sarastro\, Tamino learns from a high priest that it is the Queen\, not Sarastro\, who is evil. Hearing that Pamina is safe\, Tamino charms the wild animals with his flute\, then rushes off to follow the sound of Papageno’s pipes. Monostatos and his men chase Papageno and Pamina but are left helpless when Papageno plays his magic bells. Sarastro enters in great ceremony. He punishes Monostatos and promises Pamina that he will eventually set her free. Pamina catches a glimpse of Tamino\, who is led into the temple with Papageno. \nSarastro tells the priests that Tamino will undergo initiation rites. Monostatos tries to kiss the sleeping Pamina but is surprised by the appearance of the Queen of the Night. The Queen gives her daughter a dagger and orders her to murder Sarastro. \nSarastro finds the desperate Pamina and consoles her\, explaining that he is not interested in vengeance. Tamino and Papageno are told by a priest that they must remain silent and are not allowed to eat\, a vow that Papageno immediately breaks when he takes a glass of water from a flirtatious old lady. When he asks her name\, the old lady vanishes. The three spirits appear to guide Tamino through the rest of his journey and to tell Papageno to be quiet. Tamino remains silent even when Pamina appears. Misunderstanding his vow for coldness\, she is heartbroken. \nThe priests inform Tamino that he has only two more trials to complete his initiation. Papageno\, who has given up on entering the brotherhood\, longs for a wife instead. He eventually settles for the old lady. When he promises to be faithful she turns into a beautiful young Papagena but immediately disappears. \nPamina and Tamino are reunited and face the ordeals of water and fire together\, protected by the magic flute. \nPapageno tries to hang himself on a tree but is saved by the three spirits\, who remind him that if he uses his magic bells he will find true happiness. When he plays the bells\, Papagena appears and the two start making family plans. The Queen of the Night\, her three ladies\, and Monostatos attack the temple but are defeated and banished. Sarastro blesses Pamina and Tamino as all join in hailing the triumph of courage\, virtue\, and wisdom. \n\nTickets are $25 at the door\, general seating.  Our concessions and limited bar will be open for purchases. \n\n\n\n\n\n\n  \n\n\n  \nhttps://youtu.be/nLgYN71ZRyE?si=lVu2Reh0P1AjM051[/vc_column_text][vc_empty_space][/vc_column][/vc_row]
URL:https://astortheatre.ca/event/tron-ares-2/2025-11-21/2/
LOCATION:Astor Theatre\, 219 Main Street\, Liverpool\, Nova Scotia\, B0T 1K0\, Canada
CATEGORIES:Movies
ATTACH;FMTTYPE=image/jpeg:https://astortheatre.ca/wp-content/uploads/2025/08/tron.jpg
END:VEVENT
BEGIN:VEVENT
DTSTART;TZID=America/Halifax:20251119T190000
DTEND;TZID=America/Halifax:20251119T210000
DTSTAMP:20260419T154240
CREATED:20251104T173801Z
LAST-MODIFIED:20251114T204137Z
UID:10000042-1763578800-1763586000@astortheatre.ca
SUMMARY:LCFS: The Courageous
DESCRIPTION:[vc_row full_width=”stretch_row” css=”.vc_custom_1756314945825{margin-top: -50px !important;margin-bottom: 60px !important;padding-bottom: 30px !important;background-color: #ffffff !important;border-radius: 4px !important;}”][vc_column width=”1/3″][vc_empty_space height=”20px”][vc_single_image source=”featured_image” img_size=”full”][vc_column_text css=””] \n\nApril 7\, 2026\n6 p.m. \n$25\n\n\n[/vc_column_text][vc_column_text css=””][/vc_column_text][vc_column_text css=””]Category: Movies[/vc_column_text][/vc_column][vc_column width=”2/3″][vc_empty_space height=”30px”][vc_custom_heading source=”post_title” font_container=”tag:div|font_size:2.5em|text_align:left|color:%23000000″ google_fonts=”font_family:Alef%3Aregular%2C700|font_style:700%20bold%20regular%3A700%3Anormal” css=”.vc_custom_1691025842360{margin-top: -20px !important;margin-bottom: 10px !important;}” el_class=”mainspecialtext”][vc_row_inner content_placement=”top”][vc_column_inner width=”3/4″][vc_column_text css=”.vc_custom_1756315486716{margin-top: -20px !important;margin-bottom: 0px !important;}”] \nMovies\n[/vc_column_text][vc_empty_space][/vc_column_inner][vc_column_inner width=”1/4″][vc_column_text css=””][/vc_column_text][/vc_column_inner][/vc_row_inner][vc_column_text css=”.vc_custom_1762720267703{margin-top: -20px !important;}” el_class=”littlelarger”] \n\n\nShowtimes:  November 19th 4pm & 7pm \n\n\n\n\n\n\n\nAs part of our partnership with Lunenburg County Film Series\, we are bringing the TIFF-selected film The Courageous. \nTickets are $10 at the door – make sure you come early for our famously delicious Astor popcorn \nJasmin Gordon’s poignant and impeccably crafted feature film debut rattles our perceptions of motherhood and moral integrity with its intimate and complex portrait of a sort of woman who is rarely depicted. \nLiving in an idyllic town in the stunning Valais region of Switzerland — known for its proximity to the Matterhorn\, Alpine resorts\, and upper Rhône river valley vineyards — 40-year-old Jule (Ophélia Kolb) is a single mother dreaming of a stable existence for her young family. Her children — 10-year-old Claire\, eight-year-old Loïc\, and six-year-old Sami — have learned to take care of one another\, and\, while the whereabouts of their gregarious mother are sometimes a mystery\, the siblings know that she always returns to their home with a smile and a fantastic explanation. \n \n\n\n\n\n[/vc_column_text][vc_empty_space][/vc_column][/vc_row]
URL:https://astortheatre.ca/event/lcfs-the-courageous/2025-11-19/2/
LOCATION:Astor Theatre\, 219 Main Street\, Liverpool\, Nova Scotia\, B0T 1K0\, Canada
CATEGORIES:Movies
ATTACH;FMTTYPE=image/jpeg:https://astortheatre.ca/wp-content/uploads/2025/11/thecourageous.jpg
END:VEVENT
END:VCALENDAR