BEGIN:VCALENDAR
VERSION:2.0
PRODID:-//Astor Theatre &amp; Arts Centre - ECPv6.15.0.1//NONSGML v1.0//EN
CALSCALE:GREGORIAN
METHOD:PUBLISH
X-ORIGINAL-URL:https://astortheatre.ca
X-WR-CALDESC:Events for Astor Theatre &amp; Arts Centre
REFRESH-INTERVAL;VALUE=DURATION:PT1H
X-Robots-Tag:noindex
X-PUBLISHED-TTL:PT1H
BEGIN:VTIMEZONE
TZID:America/Halifax
BEGIN:DAYLIGHT
TZOFFSETFROM:-0400
TZOFFSETTO:-0300
TZNAME:ADT
DTSTART:20260308T060000
END:DAYLIGHT
BEGIN:STANDARD
TZOFFSETFROM:-0300
TZOFFSETTO:-0400
TZNAME:AST
DTSTART:20261101T050000
END:STANDARD
END:VTIMEZONE
BEGIN:VEVENT
DTSTART;TZID=America/Halifax:20260530T193000
DTEND;TZID=America/Halifax:20260530T213000
DTSTAMP:20260419T145139
CREATED:20260210T173422Z
LAST-MODIFIED:20260407T013407Z
UID:10006135-1780169400-1780176600@astortheatre.ca
SUMMARY:Symply Skynyrd
DESCRIPTION:[vc_row full_width=”stretch_row” css=”.vc_custom_1756314945825{margin-top: -50px !important;margin-bottom: 60px !important;padding-bottom: 30px !important;background-color: #ffffff !important;border-radius: 4px !important;}”][vc_column width=”1/3″][vc_empty_space height=”20px”][vc_single_image source=”featured_image” img_size=”full”][vc_column_text css=””] \n\nApril 29 & 30\, 2026 & May 2\, 2026\n4:00 p.m. & 7:00 p.m. & 11 a.m. & 2:30 p.m. on Saturday\n$10\n\n\n[/vc_column_text][vc_column_text css=””][/vc_column_text][vc_column_text css=””]Category: Movies[/vc_column_text][/vc_column][vc_column width=”2/3″][vc_empty_space height=”30px”][vc_custom_heading source=”post_title” font_container=”tag:div|font_size:2.5em|text_align:left|color:%23000000″ google_fonts=”font_family:Alef%3Aregular%2C700|font_style:700%20bold%20regular%3A700%3Anormal” css=”.vc_custom_1760810317427{margin-top: -15px !important;margin-bottom: 10px !important;}” el_class=”mainspecialtext”][vc_row_inner content_placement=”top”][vc_column_inner width=”3/4″ css=”.vc_custom_1760810324582{margin-left: -15px !important;}”][vc_column_text css=”.vc_custom_1756315486716{margin-top: -20px !important;margin-bottom: 0px !important;}”] \nMovies\n[/vc_column_text][vc_empty_space][/vc_column_inner][vc_column_inner width=”1/4″][vc_column_text css=””][/vc_column_text][/vc_column_inner][/vc_row_inner][vc_column_text css=”.vc_custom_1763859402382{margin-top: -20px !important;margin-bottom: 0px !important;}”]Showtimes: Wednesday\, April 29\, 2026 4 p.m. & 7p.m. | Thursday\, April 30\, 2026 4 p.m. & 7 p.m. | Saturday\, May 2\, 2026 11 a.m. & 2:30 p.m. \nNirvanna the Band the Show the Movie (2025) is a comedy film directed by Matt Johnson\, continuing his mockumentary series about two best friends (Matt and Jay) trying to book a gig at Toronto’s Rivoli club. The movie follows them using a “time machine” to 2008 to finally achieve their goal\, featuring high-concept stunts.  \n\nRating R (Brief Violence|Language)\n\n\n\nRuntime 1h 39m\n\n\n\nTickets are $10 at the door\, general seating.  Our doors open a half hour before each showing\, so make sure you come early for some of our famously delicious Astor popcorn. \n \n  \nhttps://youtu.be/y2K9ccMREOI?si=lGBi5a-OVAbwcmeU[/vc_column_text][vc_empty_space][/vc_column][/vc_row]
URL:https://astortheatre.ca/event/symply-skynyrd/
LOCATION:Astor Theatre\, 219 Main Street\, Liverpool\, Nova Scotia\, B0T 1K0\, Canada
CATEGORIES:Live Performances
ATTACH;FMTTYPE=image/jpeg:https://astortheatre.ca/wp-content/uploads/2026/02/Symply-Skynyrd-Website.jpg
END:VEVENT
BEGIN:VEVENT
DTSTART;TZID=America/Halifax:20260605T193000
DTEND;TZID=America/Halifax:20260605T213000
DTSTAMP:20260419T145139
CREATED:20260210T181648Z
LAST-MODIFIED:20260210T181648Z
UID:10006137-1780687800-1780695000@astortheatre.ca
SUMMARY:Off the Rock - Great Big Sea Tribute
DESCRIPTION:[vc_row full_width=”stretch_row” css=”.vc_custom_1756314945825{margin-top: -50px !important;margin-bottom: 60px !important;padding-bottom: 30px !important;background-color: #ffffff !important;border-radius: 4px !important;}”][vc_column width=”1/3″][vc_empty_space height=”20px”][vc_single_image source=”featured_image” img_size=”full”][vc_column_text css=””] \n\nApril 29 & 30\, 2026 & May 2\, 2026\n4:00 p.m. & 7:00 p.m. & 11 a.m. & 2:30 p.m. on Saturday\n$10\n\n\n[/vc_column_text][vc_column_text css=””][/vc_column_text][vc_column_text css=””]Category: Movies[/vc_column_text][/vc_column][vc_column width=”2/3″][vc_empty_space height=”30px”][vc_custom_heading source=”post_title” font_container=”tag:div|font_size:2.5em|text_align:left|color:%23000000″ google_fonts=”font_family:Alef%3Aregular%2C700|font_style:700%20bold%20regular%3A700%3Anormal” css=”.vc_custom_1760810317427{margin-top: -15px !important;margin-bottom: 10px !important;}” el_class=”mainspecialtext”][vc_row_inner content_placement=”top”][vc_column_inner width=”3/4″ css=”.vc_custom_1760810324582{margin-left: -15px !important;}”][vc_column_text css=”.vc_custom_1756315486716{margin-top: -20px !important;margin-bottom: 0px !important;}”] \nMovies\n[/vc_column_text][vc_empty_space][/vc_column_inner][vc_column_inner width=”1/4″][vc_column_text css=””][/vc_column_text][/vc_column_inner][/vc_row_inner][vc_column_text css=”.vc_custom_1763859402382{margin-top: -20px !important;margin-bottom: 0px !important;}”]Showtimes: Wednesday\, April 29\, 2026 4 p.m. & 7p.m. | Thursday\, April 30\, 2026 4 p.m. & 7 p.m. | Saturday\, May 2\, 2026 11 a.m. & 2:30 p.m. \nNirvanna the Band the Show the Movie (2025) is a comedy film directed by Matt Johnson\, continuing his mockumentary series about two best friends (Matt and Jay) trying to book a gig at Toronto’s Rivoli club. The movie follows them using a “time machine” to 2008 to finally achieve their goal\, featuring high-concept stunts.  \n\nRating R (Brief Violence|Language)\n\n\n\nRuntime 1h 39m\n\n\n\nTickets are $10 at the door\, general seating.  Our doors open a half hour before each showing\, so make sure you come early for some of our famously delicious Astor popcorn. \n \n  \nhttps://youtu.be/y2K9ccMREOI?si=lGBi5a-OVAbwcmeU[/vc_column_text][vc_empty_space][/vc_column][/vc_row]
URL:https://astortheatre.ca/event/off-the-rock-great-big-sea-tribute/
LOCATION:Astor Theatre\, 219 Main Street\, Liverpool\, Nova Scotia\, B0T 1K0\, Canada
CATEGORIES:Live Performances
ATTACH;FMTTYPE=image/jpeg:https://astortheatre.ca/wp-content/uploads/2026/02/Off-the-Rock-Website.jpg
END:VEVENT
BEGIN:VEVENT
DTSTART;TZID=America/Halifax:20260620T193000
DTEND;TZID=America/Halifax:20260620T213000
DTSTAMP:20260419T145139
CREATED:20260210T182441Z
LAST-MODIFIED:20260210T182654Z
UID:10006138-1781983800-1781991000@astortheatre.ca
SUMMARY:Steph Peaks  & Friends
DESCRIPTION:[vc_row full_width=”stretch_row” css=”.vc_custom_1756314945825{margin-top: -50px !important;margin-bottom: 60px !important;padding-bottom: 30px !important;background-color: #ffffff !important;border-radius: 4px !important;}”][vc_column width=”1/3″][vc_empty_space height=”20px”][vc_single_image source=”featured_image” img_size=”full”][vc_column_text css=””] \n\nApril 29 & 30\, 2026 & May 2\, 2026\n4:00 p.m. & 7:00 p.m. & 11 a.m. & 2:30 p.m. on Saturday\n$10\n\n\n[/vc_column_text][vc_column_text css=””][/vc_column_text][vc_column_text css=””]Category: Movies[/vc_column_text][/vc_column][vc_column width=”2/3″][vc_empty_space height=”30px”][vc_custom_heading source=”post_title” font_container=”tag:div|font_size:2.5em|text_align:left|color:%23000000″ google_fonts=”font_family:Alef%3Aregular%2C700|font_style:700%20bold%20regular%3A700%3Anormal” css=”.vc_custom_1760810317427{margin-top: -15px !important;margin-bottom: 10px !important;}” el_class=”mainspecialtext”][vc_row_inner content_placement=”top”][vc_column_inner width=”3/4″ css=”.vc_custom_1760810324582{margin-left: -15px !important;}”][vc_column_text css=”.vc_custom_1756315486716{margin-top: -20px !important;margin-bottom: 0px !important;}”] \nMovies\n[/vc_column_text][vc_empty_space][/vc_column_inner][vc_column_inner width=”1/4″][vc_column_text css=””][/vc_column_text][/vc_column_inner][/vc_row_inner][vc_column_text css=”.vc_custom_1763859402382{margin-top: -20px !important;margin-bottom: 0px !important;}”]Showtimes: Wednesday\, April 29\, 2026 4 p.m. & 7p.m. | Thursday\, April 30\, 2026 4 p.m. & 7 p.m. | Saturday\, May 2\, 2026 11 a.m. & 2:30 p.m. \nNirvanna the Band the Show the Movie (2025) is a comedy film directed by Matt Johnson\, continuing his mockumentary series about two best friends (Matt and Jay) trying to book a gig at Toronto’s Rivoli club. The movie follows them using a “time machine” to 2008 to finally achieve their goal\, featuring high-concept stunts.  \n\nRating R (Brief Violence|Language)\n\n\n\nRuntime 1h 39m\n\n\n\nTickets are $10 at the door\, general seating.  Our doors open a half hour before each showing\, so make sure you come early for some of our famously delicious Astor popcorn. \n \n  \nhttps://youtu.be/y2K9ccMREOI?si=lGBi5a-OVAbwcmeU[/vc_column_text][vc_empty_space][/vc_column][/vc_row]
URL:https://astortheatre.ca/event/steph-peaks-friends/
LOCATION:Astor Theatre\, 219 Main Street\, Liverpool\, Nova Scotia\, B0T 1K0\, Canada
CATEGORIES:Live Performances
ATTACH;FMTTYPE=image/jpeg:https://astortheatre.ca/wp-content/uploads/2026/02/Steph-Peaks-Friends-Website.jpg
END:VEVENT
BEGIN:VEVENT
DTSTART;TZID=America/Halifax:20260624T180000
DTEND;TZID=America/Halifax:20260624T200000
DTSTAMP:20260419T145139
CREATED:20260419T131945Z
LAST-MODIFIED:20260419T131945Z
UID:10006596-1782324000-1782331200@astortheatre.ca
SUMMARY:The Astor Academy Spotlight Guild
DESCRIPTION:[vc_row full_width=”stretch_row” css=”.vc_custom_1756314945825{margin-top: -50px !important;margin-bottom: 60px !important;padding-bottom: 30px !important;background-color: #ffffff !important;border-radius: 4px !important;}”][vc_column width=”1/3″][vc_empty_space height=”20px”][vc_single_image source=”featured_image” img_size=”full”][vc_column_text css=””] \n\nApril 29 & 30\, 2026 & May 2\, 2026\n4:00 p.m. & 7:00 p.m. & 11 a.m. & 2:30 p.m. on Saturday\n$10\n\n\n[/vc_column_text][vc_column_text css=””][/vc_column_text][vc_column_text css=””]Category: Movies[/vc_column_text][/vc_column][vc_column width=”2/3″][vc_empty_space height=”30px”][vc_custom_heading source=”post_title” font_container=”tag:div|font_size:2.5em|text_align:left|color:%23000000″ google_fonts=”font_family:Alef%3Aregular%2C700|font_style:700%20bold%20regular%3A700%3Anormal” css=”.vc_custom_1760810317427{margin-top: -15px !important;margin-bottom: 10px !important;}” el_class=”mainspecialtext”][vc_row_inner content_placement=”top”][vc_column_inner width=”3/4″ css=”.vc_custom_1760810324582{margin-left: -15px !important;}”][vc_column_text css=”.vc_custom_1756315486716{margin-top: -20px !important;margin-bottom: 0px !important;}”] \nMovies\n[/vc_column_text][vc_empty_space][/vc_column_inner][vc_column_inner width=”1/4″][vc_column_text css=””][/vc_column_text][/vc_column_inner][/vc_row_inner][vc_column_text css=”.vc_custom_1763859402382{margin-top: -20px !important;margin-bottom: 0px !important;}”]Showtimes: Wednesday\, April 29\, 2026 4 p.m. & 7p.m. | Thursday\, April 30\, 2026 4 p.m. & 7 p.m. | Saturday\, May 2\, 2026 11 a.m. & 2:30 p.m. \nNirvanna the Band the Show the Movie (2025) is a comedy film directed by Matt Johnson\, continuing his mockumentary series about two best friends (Matt and Jay) trying to book a gig at Toronto’s Rivoli club. The movie follows them using a “time machine” to 2008 to finally achieve their goal\, featuring high-concept stunts.  \n\nRating R (Brief Violence|Language)\n\n\n\nRuntime 1h 39m\n\n\n\nTickets are $10 at the door\, general seating.  Our doors open a half hour before each showing\, so make sure you come early for some of our famously delicious Astor popcorn. \n \n  \nhttps://youtu.be/y2K9ccMREOI?si=lGBi5a-OVAbwcmeU[/vc_column_text][vc_empty_space][/vc_column][/vc_row]
URL:https://astortheatre.ca/event/the-astor-academy-spotlight-guild/
LOCATION:Astor Theatre\, 219 Main Street\, Liverpool\, Nova Scotia\, B0T 1K0\, Canada
CATEGORIES:Cultural & Community Events,Programs
ATTACH;FMTTYPE=image/jpeg:https://astortheatre.ca/wp-content/uploads/2026/04/Spotlight-Guild-Poster-2026.jpg
END:VEVENT
BEGIN:VEVENT
DTSTART;TZID=America/Halifax:20260925T193000
DTEND;TZID=America/Halifax:20260925T213000
DTSTAMP:20260419T145139
CREATED:20260418T155211Z
LAST-MODIFIED:20260418T155211Z
UID:10006595-1790364600-1790371800@astortheatre.ca
SUMMARY:The Once
DESCRIPTION:[vc_row full_width=”stretch_row” css=”.vc_custom_1756314945825{margin-top: -50px !important;margin-bottom: 60px !important;padding-bottom: 30px !important;background-color: #ffffff !important;border-radius: 4px !important;}”][vc_column width=”1/3″][vc_empty_space height=”20px”][vc_single_image source=”featured_image” img_size=”full”][vc_column_text css=””] \n\nApril 29 & 30\, 2026 & May 2\, 2026\n4:00 p.m. & 7:00 p.m. & 11 a.m. & 2:30 p.m. on Saturday\n$10\n\n\n[/vc_column_text][vc_column_text css=””][/vc_column_text][vc_column_text css=””]Category: Movies[/vc_column_text][/vc_column][vc_column width=”2/3″][vc_empty_space height=”30px”][vc_custom_heading source=”post_title” font_container=”tag:div|font_size:2.5em|text_align:left|color:%23000000″ google_fonts=”font_family:Alef%3Aregular%2C700|font_style:700%20bold%20regular%3A700%3Anormal” css=”.vc_custom_1760810317427{margin-top: -15px !important;margin-bottom: 10px !important;}” el_class=”mainspecialtext”][vc_row_inner content_placement=”top”][vc_column_inner width=”3/4″ css=”.vc_custom_1760810324582{margin-left: -15px !important;}”][vc_column_text css=”.vc_custom_1756315486716{margin-top: -20px !important;margin-bottom: 0px !important;}”] \nMovies\n[/vc_column_text][vc_empty_space][/vc_column_inner][vc_column_inner width=”1/4″][vc_column_text css=””][/vc_column_text][/vc_column_inner][/vc_row_inner][vc_column_text css=”.vc_custom_1763859402382{margin-top: -20px !important;margin-bottom: 0px !important;}”]Showtimes: Wednesday\, April 29\, 2026 4 p.m. & 7p.m. | Thursday\, April 30\, 2026 4 p.m. & 7 p.m. | Saturday\, May 2\, 2026 11 a.m. & 2:30 p.m. \nNirvanna the Band the Show the Movie (2025) is a comedy film directed by Matt Johnson\, continuing his mockumentary series about two best friends (Matt and Jay) trying to book a gig at Toronto’s Rivoli club. The movie follows them using a “time machine” to 2008 to finally achieve their goal\, featuring high-concept stunts.  \n\nRating R (Brief Violence|Language)\n\n\n\nRuntime 1h 39m\n\n\n\nTickets are $10 at the door\, general seating.  Our doors open a half hour before each showing\, so make sure you come early for some of our famously delicious Astor popcorn. \n \n  \nhttps://youtu.be/y2K9ccMREOI?si=lGBi5a-OVAbwcmeU[/vc_column_text][vc_empty_space][/vc_column][/vc_row]
URL:https://astortheatre.ca/event/the-once/
LOCATION:Astor Theatre\, 219 Main Street\, Liverpool\, Nova Scotia\, B0T 1K0\, Canada
CATEGORIES:Live Performances
ATTACH;FMTTYPE=image/jpeg:https://astortheatre.ca/wp-content/uploads/2026/04/The-ONCE-poster-OG.jpg
END:VEVENT
BEGIN:VEVENT
DTSTART;TZID=America/Halifax:20261023T190000
DTEND;TZID=America/Halifax:20261023T210000
DTSTAMP:20260419T145139
CREATED:20260323T183716Z
LAST-MODIFIED:20260323T201521Z
UID:10006184-1792782000-1792789200@astortheatre.ca
SUMMARY:The Grand Tour
DESCRIPTION:[vc_row full_width=”stretch_row” css=”.vc_custom_1756314945825{margin-top: -50px !important;margin-bottom: 60px !important;padding-bottom: 30px !important;background-color: #ffffff !important;border-radius: 4px !important;}”][vc_column width=”1/3″][vc_empty_space height=”20px”][vc_single_image source=”featured_image” img_size=”full”][vc_column_text css=””] \n\nApril 29 & 30\, 2026 & May 2\, 2026\n4:00 p.m. & 7:00 p.m. & 11 a.m. & 2:30 p.m. on Saturday\n$10\n\n\n[/vc_column_text][vc_column_text css=””][/vc_column_text][vc_column_text css=””]Category: Movies[/vc_column_text][/vc_column][vc_column width=”2/3″][vc_empty_space height=”30px”][vc_custom_heading source=”post_title” font_container=”tag:div|font_size:2.5em|text_align:left|color:%23000000″ google_fonts=”font_family:Alef%3Aregular%2C700|font_style:700%20bold%20regular%3A700%3Anormal” css=”.vc_custom_1760810317427{margin-top: -15px !important;margin-bottom: 10px !important;}” el_class=”mainspecialtext”][vc_row_inner content_placement=”top”][vc_column_inner width=”3/4″ css=”.vc_custom_1760810324582{margin-left: -15px !important;}”][vc_column_text css=”.vc_custom_1756315486716{margin-top: -20px !important;margin-bottom: 0px !important;}”] \nMovies\n[/vc_column_text][vc_empty_space][/vc_column_inner][vc_column_inner width=”1/4″][vc_column_text css=””][/vc_column_text][/vc_column_inner][/vc_row_inner][vc_column_text css=”.vc_custom_1763859402382{margin-top: -20px !important;margin-bottom: 0px !important;}”]Showtimes: Wednesday\, April 29\, 2026 4 p.m. & 7p.m. | Thursday\, April 30\, 2026 4 p.m. & 7 p.m. | Saturday\, May 2\, 2026 11 a.m. & 2:30 p.m. \nNirvanna the Band the Show the Movie (2025) is a comedy film directed by Matt Johnson\, continuing his mockumentary series about two best friends (Matt and Jay) trying to book a gig at Toronto’s Rivoli club. The movie follows them using a “time machine” to 2008 to finally achieve their goal\, featuring high-concept stunts.  \n\nRating R (Brief Violence|Language)\n\n\n\nRuntime 1h 39m\n\n\n\nTickets are $10 at the door\, general seating.  Our doors open a half hour before each showing\, so make sure you come early for some of our famously delicious Astor popcorn. \n \n  \nhttps://youtu.be/y2K9ccMREOI?si=lGBi5a-OVAbwcmeU[/vc_column_text][vc_empty_space][/vc_column][/vc_row]
URL:https://astortheatre.ca/event/the-grand-tour/
LOCATION:Astor Theatre\, 219 Main Street\, Liverpool\, Nova Scotia\, B0T 1K0\, Canada
CATEGORIES:Live Performances
ATTACH;FMTTYPE=image/jpeg:https://astortheatre.ca/wp-content/uploads/2026/03/The-Grand-Tour-TP-11-x-17-in.jpg
END:VEVENT
BEGIN:VEVENT
DTSTART;TZID=America/Halifax:20261113T193000
DTEND;TZID=America/Halifax:20261113T213000
DTSTAMP:20260419T145139
CREATED:20260403T014410Z
LAST-MODIFIED:20260403T015022Z
UID:10006203-1794598200-1794605400@astortheatre.ca
SUMMARY:Men of the DEEPS @ 60 - DIAMOND SUNSET TOUR
DESCRIPTION:[vc_row full_width=”stretch_row” css=”.vc_custom_1756314945825{margin-top: -50px !important;margin-bottom: 60px !important;padding-bottom: 30px !important;background-color: #ffffff !important;border-radius: 4px !important;}”][vc_column width=”1/3″][vc_empty_space height=”20px”][vc_single_image source=”featured_image” img_size=”full”][vc_column_text css=””] \n\nApril 29 & 30\, 2026 & May 2\, 2026\n4:00 p.m. & 7:00 p.m. & 11 a.m. & 2:30 p.m. on Saturday\n$10\n\n\n[/vc_column_text][vc_column_text css=””][/vc_column_text][vc_column_text css=””]Category: Movies[/vc_column_text][/vc_column][vc_column width=”2/3″][vc_empty_space height=”30px”][vc_custom_heading source=”post_title” font_container=”tag:div|font_size:2.5em|text_align:left|color:%23000000″ google_fonts=”font_family:Alef%3Aregular%2C700|font_style:700%20bold%20regular%3A700%3Anormal” css=”.vc_custom_1760810317427{margin-top: -15px !important;margin-bottom: 10px !important;}” el_class=”mainspecialtext”][vc_row_inner content_placement=”top”][vc_column_inner width=”3/4″ css=”.vc_custom_1760810324582{margin-left: -15px !important;}”][vc_column_text css=”.vc_custom_1756315486716{margin-top: -20px !important;margin-bottom: 0px !important;}”] \nMovies\n[/vc_column_text][vc_empty_space][/vc_column_inner][vc_column_inner width=”1/4″][vc_column_text css=””][/vc_column_text][/vc_column_inner][/vc_row_inner][vc_column_text css=”.vc_custom_1763859402382{margin-top: -20px !important;margin-bottom: 0px !important;}”]Showtimes: Wednesday\, April 29\, 2026 4 p.m. & 7p.m. | Thursday\, April 30\, 2026 4 p.m. & 7 p.m. | Saturday\, May 2\, 2026 11 a.m. & 2:30 p.m. \nNirvanna the Band the Show the Movie (2025) is a comedy film directed by Matt Johnson\, continuing his mockumentary series about two best friends (Matt and Jay) trying to book a gig at Toronto’s Rivoli club. The movie follows them using a “time machine” to 2008 to finally achieve their goal\, featuring high-concept stunts.  \n\nRating R (Brief Violence|Language)\n\n\n\nRuntime 1h 39m\n\n\n\nTickets are $10 at the door\, general seating.  Our doors open a half hour before each showing\, so make sure you come early for some of our famously delicious Astor popcorn. \n \n  \nhttps://youtu.be/y2K9ccMREOI?si=lGBi5a-OVAbwcmeU[/vc_column_text][vc_empty_space][/vc_column][/vc_row]
URL:https://astortheatre.ca/event/men-of-the-deeps-60-diamond-sunset-tour/
LOCATION:Astor Theatre\, 219 Main Street\, Liverpool\, Nova Scotia\, B0T 1K0\, Canada
CATEGORIES:Live Performances
ATTACH;FMTTYPE=image/jpeg:https://astortheatre.ca/wp-content/uploads/2026/04/The-Men-of-the-Deeps-60.jpg
END:VEVENT
END:VCALENDAR