BEGIN:VCALENDAR
VERSION:2.0
PRODID:-//Astor Theatre &amp; Arts Centre - ECPv6.15.0.1//NONSGML v1.0//EN
CALSCALE:GREGORIAN
METHOD:PUBLISH
X-WR-CALNAME:Astor Theatre &amp; Arts Centre
X-ORIGINAL-URL:https://astortheatre.ca
X-WR-CALDESC:Events for Astor Theatre &amp; Arts Centre
REFRESH-INTERVAL;VALUE=DURATION:PT1H
X-Robots-Tag:noindex
X-PUBLISHED-TTL:PT1H
BEGIN:VTIMEZONE
TZID:America/Halifax
BEGIN:DAYLIGHT
TZOFFSETFROM:-0400
TZOFFSETTO:-0300
TZNAME:ADT
DTSTART:20250309T060000
END:DAYLIGHT
BEGIN:STANDARD
TZOFFSETFROM:-0300
TZOFFSETTO:-0400
TZNAME:AST
DTSTART:20251102T050000
END:STANDARD
END:VTIMEZONE
BEGIN:VEVENT
DTSTART;TZID=America/Halifax:20251217T190000
DTEND;TZID=America/Halifax:20251217T210000
DTSTAMP:20260419T202317
CREATED:20251126T224609Z
LAST-MODIFIED:20251212T203620Z
UID:10000104-1765998000-1766005200@astortheatre.ca
SUMMARY:Love Actually (2003)
DESCRIPTION:[vc_row full_width=”stretch_row” css=”.vc_custom_1756314945825{margin-top: -50px !important;margin-bottom: 60px !important;padding-bottom: 30px !important;background-color: #ffffff !important;border-radius: 4px !important;}”][vc_column width=”1/3″][vc_empty_space height=”20px”][vc_single_image source=”featured_image” img_size=”full”][vc_column_text css=””] \n\n\n\n\n\n\n[/vc_column_text][vc_column_text css=””][/vc_column_text][vc_column_text css=””]Category: [/vc_column_text][/vc_column][vc_column width=”2/3″][vc_empty_space height=”30px”][vc_custom_heading source=”post_title” font_container=”tag:div|font_size:2.5em|text_align:left|color:%23000000″ google_fonts=”font_family:Alef%3Aregular%2C700|font_style:700%20bold%20regular%3A700%3Anormal” css=”.vc_custom_1691025842360{margin-top: -20px !important;margin-bottom: 10px !important;}” el_class=”mainspecialtext”][vc_row_inner content_placement=”top”][vc_column_inner width=”3/4″][vc_column_text css=”.vc_custom_1756315486716{margin-top: -20px !important;margin-bottom: 0px !important;}”] \n\n[/vc_column_text][vc_empty_space][/vc_column_inner][vc_column_inner width=”1/4″][vc_column_text css=””][/vc_column_text][/vc_column_inner][/vc_row_inner][vc_column_text css=”.vc_custom_1763859402382{margin-top: -20px !important;margin-bottom: 0px !important;}”] \n  \n[/vc_column_text][vc_empty_space][/vc_column][/vc_row]
URL:https://astortheatre.ca/event/love-actually-2003/2025-12-17/2/
LOCATION:Astor Theatre\, 219 Main Street\, Liverpool\, Nova Scotia\, B0T 1K0\, Canada
CATEGORIES:Movies
ATTACH;FMTTYPE=image/jpeg:https://astortheatre.ca/wp-content/uploads/2025/11/Love-Actually-original-Poster.jpg
ORGANIZER;CN="Box Office":MAILTO:boxoffice@astortheatre.ns.ca
END:VEVENT
BEGIN:VEVENT
DTSTART;TZID=America/Halifax:20251203T190000
DTEND;TZID=America/Halifax:20251203T210000
DTSTAMP:20260419T202317
CREATED:20251122T024746Z
LAST-MODIFIED:20251123T010809Z
UID:10000086-1764788400-1764795600@astortheatre.ca
SUMMARY:Predator: Badlands
DESCRIPTION:[vc_row full_width=”stretch_row” css=”.vc_custom_1756314945825{margin-top: -50px !important;margin-bottom: 60px !important;padding-bottom: 30px !important;background-color: #ffffff !important;border-radius: 4px !important;}”][vc_column width=”1/3″][vc_empty_space height=”20px”][vc_single_image source=”featured_image” img_size=”full”][vc_column_text css=””] \n\n\n\n\n\n\n[/vc_column_text][vc_column_text css=””][/vc_column_text][vc_column_text css=””]Category: [/vc_column_text][/vc_column][vc_column width=”2/3″][vc_empty_space height=”30px”][vc_custom_heading source=”post_title” font_container=”tag:div|font_size:2.5em|text_align:left|color:%23000000″ google_fonts=”font_family:Alef%3Aregular%2C700|font_style:700%20bold%20regular%3A700%3Anormal” css=”.vc_custom_1691025842360{margin-top: -20px !important;margin-bottom: 10px !important;}” el_class=”mainspecialtext”][vc_row_inner content_placement=”top”][vc_column_inner width=”3/4″][vc_column_text css=”.vc_custom_1756315486716{margin-top: -20px !important;margin-bottom: 0px !important;}”] \n\n[/vc_column_text][vc_empty_space][/vc_column_inner][vc_column_inner width=”1/4″][vc_column_text css=””][/vc_column_text][/vc_column_inner][/vc_row_inner][vc_column_text css=”.vc_custom_1763859402382{margin-top: -20px !important;margin-bottom: 0px !important;}”] \n  \n[/vc_column_text][vc_empty_space][/vc_column][/vc_row]
URL:https://astortheatre.ca/event/predator-badlands/2025-12-03/2/
LOCATION:Astor Theatre\, 219 Main Street\, Liverpool\, Nova Scotia\, B0T 1K0\, Canada
CATEGORIES:Movies
ATTACH;FMTTYPE=image/png:https://astortheatre.ca/wp-content/uploads/2025/11/Predator-Badlands-original-Poster.png
ORGANIZER;CN="Box Office":MAILTO:boxoffice@astortheatre.ns.ca
END:VEVENT
END:VCALENDAR